BEGIN:VCALENDAR
VERSION:2.0
CALSCALE:GREGORIAN
PRODID:adamgibbons/ics
METHOD:PUBLISH
X-PUBLISHED-TTL:PT1H
BEGIN:VEVENT
UID:58@bootblack.events
SUMMARY:Bootblacking the Swiss Xperience
DTSTAMP:20260424T214807Z
DTSTART:20250214T190000Z
DTEND:20250216T225900Z
DESCRIPTION:Bootblack Stand during the Swiss Xperience weekend\n\nMore info
	 about the event: https://xperienceswissfetish.ch/\n[https://xperienceswis
	sfetish.ch/]
URL:https://bootblack.events/event/bootblacking-the-swiss-xperience
GEO:46.94843;7.4473028
LOCATION:Anker Bar Bern - Kornhauspl. 16\, 3011 Bern
STATUS:CONFIRMED
CATEGORIES:Bootblack Stand,Bern,Switzerland
X-ALT-DESC;FMTTYPE=text/html:<p>Bootblack Stand during the Swiss Xperience 
	weekend</p><p>More info about the event: <a target="_blank" href="https://
	xperienceswissfetish.ch/">https://xperienceswissfetish.ch/</a></p>
END:VEVENT
END:VCALENDAR
